BEGIN:VCALENDAR
VERSION:2.0
PRODID:-//Holiday Inn and Suites Virginia Beach - North Beach - ECPv6.15.20//NONSGML v1.0//EN
CALSCALE:GREGORIAN
METHOD:PUBLISH
X-ORIGINAL-URL:https://www.vboceanfrontnorth.com
X-WR-CALDESC:Events for Holiday Inn and Suites Virginia Beach - North Beach
REFRESH-INTERVAL;VALUE=DURATION:PT1H
X-Robots-Tag:noindex
X-PUBLISHED-TTL:PT1H
BEGIN:VTIMEZONE
TZID:America/New_York
BEGIN:DAYLIGHT
TZOFFSETFROM:-0500
TZOFFSETTO:-0400
TZNAME:EDT
DTSTART:20200308T070000
END:DAYLIGHT
BEGIN:STANDARD
TZOFFSETFROM:-0400
TZOFFSETTO:-0500
TZNAME:EST
DTSTART:20201101T060000
END:STANDARD
BEGIN:DAYLIGHT
TZOFFSETFROM:-0500
TZOFFSETTO:-0400
TZNAME:EDT
DTSTART:20210314T070000
END:DAYLIGHT
BEGIN:STANDARD
TZOFFSETFROM:-0400
TZOFFSETTO:-0500
TZNAME:EST
DTSTART:20211107T060000
END:STANDARD
BEGIN:DAYLIGHT
TZOFFSETFROM:-0500
TZOFFSETTO:-0400
TZNAME:EDT
DTSTART:20220313T070000
END:DAYLIGHT
BEGIN:STANDARD
TZOFFSETFROM:-0400
TZOFFSETTO:-0500
TZNAME:EST
DTSTART:20221106T060000
END:STANDARD
END:VTIMEZONE
BEGIN:VEVENT
DTSTART;TZID=America/New_York:20211104T190000
DTEND;TZID=America/New_York:20211104T220000
DTSTAMP:20260421T052927
CREATED:20211103T195056Z
LAST-MODIFIED:20211103T195135Z
UID:4226-1636052400-1636063200@www.vboceanfrontnorth.com
SUMMARY:VB Comedy Fest
DESCRIPTION:Join The Z for three kinds of comedy: Stand Up\, Improv\, and Sketch. The best local comedy acts will be featured alongside some of our favorite national talent\, and throw in workshops and networking events for good measure. HEADLINER: JOEY GAY.
URL:https://www.vboceanfrontnorth.com/event/vb-comedy-fest/2021-11-04/
LOCATION:Zeiders American Dream Theater\, 4509 Commerce St\, Virginia Beach\, VA\, 23462\, United States
CATEGORIES:Virginia Beach Events
ATTACH;FMTTYPE=image/jpeg:https://www.vboceanfrontnorth.com/wp-content/uploads/2021/11/screenshot01.jpg
END:VEVENT
END:VCALENDAR