BEGIN:VCALENDAR
VERSION:2.0
PRODID:-//Holiday Inn and Suites Virginia Beach - North Beach - ECPv6.15.20//NONSGML v1.0//EN
CALSCALE:GREGORIAN
METHOD:PUBLISH
X-ORIGINAL-URL:https://www.vboceanfrontnorth.com
X-WR-CALDESC:Events for Holiday Inn and Suites Virginia Beach - North Beach
REFRESH-INTERVAL;VALUE=DURATION:PT1H
X-Robots-Tag:noindex
X-PUBLISHED-TTL:PT1H
BEGIN:VTIMEZONE
TZID:America/New_York
BEGIN:DAYLIGHT
TZOFFSETFROM:-0500
TZOFFSETTO:-0400
TZNAME:EDT
DTSTART:20230312T070000
END:DAYLIGHT
BEGIN:STANDARD
TZOFFSETFROM:-0400
TZOFFSETTO:-0500
TZNAME:EST
DTSTART:20231105T060000
END:STANDARD
BEGIN:DAYLIGHT
TZOFFSETFROM:-0500
TZOFFSETTO:-0400
TZNAME:EDT
DTSTART:20240310T070000
END:DAYLIGHT
BEGIN:STANDARD
TZOFFSETFROM:-0400
TZOFFSETTO:-0500
TZNAME:EST
DTSTART:20241103T060000
END:STANDARD
BEGIN:DAYLIGHT
TZOFFSETFROM:-0500
TZOFFSETTO:-0400
TZNAME:EDT
DTSTART:20250309T070000
END:DAYLIGHT
BEGIN:STANDARD
TZOFFSETFROM:-0400
TZOFFSETTO:-0500
TZNAME:EST
DTSTART:20251102T060000
END:STANDARD
END:VTIMEZONE
BEGIN:VEVENT
DTSTART;VALUE=DATE:20240615
DTEND;VALUE=DATE:20240616
DTSTAMP:20260419T173153
CREATED:20190118T202023Z
LAST-MODIFIED:20240117T172456Z
UID:1260-1718409600-1718495999@www.vboceanfrontnorth.com
SUMMARY:Chalk the Walk
DESCRIPTION:Chalk the Walk takes over the Virginia Beach Boardwalk as professional\, amateur\, and youth artists gather to turn the boardwalk into a canvas of color! At Chalk the Walk\, competitors will draw 4’x4′ chalk drawings for three blocks along the boardwalk to be on display and judged. Judges will score the drawings according to criteria such as composition\, use of color\, adherence to theme\, and creativity.
URL:https://www.vboceanfrontnorth.com/event/chalk-the-walk/
CATEGORIES:Virginia Beach Events
ATTACH;FMTTYPE=image/jpeg:https://www.vboceanfrontnorth.com/wp-content/uploads/2019/01/Chalk-the-Walk-ARTsplosion.jpg
END:VEVENT
END:VCALENDAR