BEGIN:VCALENDAR
VERSION:2.0
PRODID:-//Holiday Inn and Suites Virginia Beach - North Beach - ECPv6.15.20//NONSGML v1.0//EN
CALSCALE:GREGORIAN
METHOD:PUBLISH
X-ORIGINAL-URL:https://www.vboceanfrontnorth.com
X-WR-CALDESC:Events for Holiday Inn and Suites Virginia Beach - North Beach
REFRESH-INTERVAL;VALUE=DURATION:PT1H
X-Robots-Tag:noindex
X-PUBLISHED-TTL:PT1H
BEGIN:VTIMEZONE
TZID:America/New_York
BEGIN:DAYLIGHT
TZOFFSETFROM:-0500
TZOFFSETTO:-0400
TZNAME:EDT
DTSTART:20230312T070000
END:DAYLIGHT
BEGIN:STANDARD
TZOFFSETFROM:-0400
TZOFFSETTO:-0500
TZNAME:EST
DTSTART:20231105T060000
END:STANDARD
BEGIN:DAYLIGHT
TZOFFSETFROM:-0500
TZOFFSETTO:-0400
TZNAME:EDT
DTSTART:20240310T070000
END:DAYLIGHT
BEGIN:STANDARD
TZOFFSETFROM:-0400
TZOFFSETTO:-0500
TZNAME:EST
DTSTART:20241103T060000
END:STANDARD
BEGIN:DAYLIGHT
TZOFFSETFROM:-0500
TZOFFSETTO:-0400
TZNAME:EDT
DTSTART:20250309T070000
END:DAYLIGHT
BEGIN:STANDARD
TZOFFSETFROM:-0400
TZOFFSETTO:-0500
TZNAME:EST
DTSTART:20251102T060000
END:STANDARD
END:VTIMEZONE
BEGIN:VEVENT
DTSTART;VALUE=DATE:20240716
DTEND;VALUE=DATE:20240721
DTSTAMP:20260419T234758
CREATED:20240117T170556Z
LAST-MODIFIED:20240117T170813Z
UID:5192-1721088000-1721519999@www.vboceanfrontnorth.com
SUMMARY:Beach Blanket Movie Festival: Jurassic Experience
DESCRIPTION:Bring the entire family to the Virginia Beach Oceanfront for a Jurassic Experience. Find your spot on the sand and enjoy. All films are free and open to the public. All movies are free and begin at 8:30pm on the beach at 29th Street. This year’s film festival includes: \nTuesday\, July 16: DINOSAUR (PG)\nWednesday\, July 17: JURASSIC PARK (PG-13)\nThursday\, July 18: THE LAND BEFORE TIME (G)\nFriday\, July 19: THE GOOD DINOSAUR (PG)\nSaturday\, July 20: JURASSIC WORLD (PG-13)
URL:https://www.vboceanfrontnorth.com/event/beach-blanket-movie-festival-jurassic-experience/
CATEGORIES:Virginia Beach Events
ATTACH;FMTTYPE=image/jpeg:https://www.vboceanfrontnorth.com/wp-content/uploads/2024/01/Beach-Blanket-Movie-Festival-Jurassic-Experience.jpg
END:VEVENT
END:VCALENDAR