BEGIN:VCALENDAR
VERSION:2.0
PRODID:-//Holiday Inn and Suites Virginia Beach - North Beach - ECPv6.15.20//NONSGML v1.0//EN
CALSCALE:GREGORIAN
METHOD:PUBLISH
X-WR-CALNAME:Holiday Inn and Suites Virginia Beach - North Beach
X-ORIGINAL-URL:https://www.vboceanfrontnorth.com
X-WR-CALDESC:Events for Holiday Inn and Suites Virginia Beach - North Beach
REFRESH-INTERVAL;VALUE=DURATION:PT1H
X-Robots-Tag:noindex
X-PUBLISHED-TTL:PT1H
BEGIN:VTIMEZONE
TZID:America/New_York
BEGIN:DAYLIGHT
TZOFFSETFROM:-0500
TZOFFSETTO:-0400
TZNAME:EDT
DTSTART:20240310T070000
END:DAYLIGHT
BEGIN:STANDARD
TZOFFSETFROM:-0400
TZOFFSETTO:-0500
TZNAME:EST
DTSTART:20241103T060000
END:STANDARD
BEGIN:DAYLIGHT
TZOFFSETFROM:-0500
TZOFFSETTO:-0400
TZNAME:EDT
DTSTART:20250309T070000
END:DAYLIGHT
BEGIN:STANDARD
TZOFFSETFROM:-0400
TZOFFSETTO:-0500
TZNAME:EST
DTSTART:20251102T060000
END:STANDARD
BEGIN:DAYLIGHT
TZOFFSETFROM:-0500
TZOFFSETTO:-0400
TZNAME:EDT
DTSTART:20260308T070000
END:DAYLIGHT
BEGIN:STANDARD
TZOFFSETFROM:-0400
TZOFFSETTO:-0500
TZNAME:EST
DTSTART:20261101T060000
END:STANDARD
END:VTIMEZONE
BEGIN:VEVENT
DTSTART;VALUE=DATE:20250131
DTEND;VALUE=DATE:20250203
DTSTAMP:20260421T181728
CREATED:20190115T170244Z
LAST-MODIFIED:20241217T181943Z
UID:1105-1738281600-1738540799@www.vboceanfrontnorth.com
SUMMARY:Mid-Atlantic Sports & Boat Show
DESCRIPTION:If you’ve been thinking of buying a boat or upgrading what you currently have\, now is the time to buy! Boat dealers from all over the state will be under one roof with their inventory and ready to make a deal! Whether you want to see the latest 2025 boat models\, custom boats\, or watercraft and jet skis this will be your chance to check them out all in one location. The Boat Show offers plenty of family fun\, too! A day on your boat is a relaxing way to reconnect with your family and is more affordable than you might think. Bring the family and learn how easy and affordable boating can be!
URL:https://www.vboceanfrontnorth.com/event/mid-atlantic-sports-boat-show/
LOCATION:Virginia Beach Convention Center\, 1000 19th St\, Virginia Beach\, VA\, 23451\, United States
CATEGORIES:Virginia Beach Convention Center Events,Virginia Beach Events
ATTACH;FMTTYPE=image/jpeg:https://www.vboceanfrontnorth.com/wp-content/uploads/2019/01/Mid-Atlantic-Sports-Boat-Show.jpg
END:VEVENT
BEGIN:VEVENT
DTSTART;VALUE=DATE:20250207
DTEND;VALUE=DATE:20250209
DTSTAMP:20260421T181728
CREATED:20190102T220255Z
LAST-MODIFIED:20241217T181734Z
UID:677-1738886400-1739059199@www.vboceanfrontnorth.com
SUMMARY:Polar Plunge
DESCRIPTION:The chill and thrill is real at the coolest fundraiser of the year\, the Virginia Beach Polar Plunge! Join us for a day packed with cool – a costume contest and parade along the Boardwalk\, live music\, frosty beverages\, free Wawa hot chocolate and coffee\, local vendors – all capped off with an icy dip into the frigid Atlantic Ocean for a great cause. Plus\, join the party early by grabbing your glow and participating in our 5K Run/Waddle Friday evening\, followed by the Pre-Plunge party! Your coolest day of the year is helping fund year-round programs for 20\,000+ Special Olympics Virginia athletes.
URL:https://www.vboceanfrontnorth.com/event/polar-plunge-festival/
CATEGORIES:Virginia Beach Events
ATTACH;FMTTYPE=image/jpeg:https://www.vboceanfrontnorth.com/wp-content/uploads/2019/01/Polar-Plunge.jpg
END:VEVENT
BEGIN:VEVENT
DTSTART;VALUE=DATE:20250207
DTEND;VALUE=DATE:20250209
DTSTAMP:20260421T181728
CREATED:20230109T185227Z
LAST-MODIFIED:20241217T183644Z
UID:4658-1738886400-1739059199@www.vboceanfrontnorth.com
SUMMARY:Virginia Beach Coin Show
DESCRIPTION:The Virginia Beach Coin Show sponsored by the Tidewater Coin Club is a free event at the Virginia Beach Convention Center. 65 Dealer Tables. ANACS on site for coin authentication & grading. Educational displays\, Buy\, Sell & Appraise\, US Foreign & Ancient Coins\, Confederate & Fractional Currency\, US & Foreign Paper Money\, Books & supplies. Coin raffle and door prizes every hour. Fun activities and free stuff for kids.
URL:https://www.vboceanfrontnorth.com/event/virginia-beach-coin-show/
LOCATION:Virginia Beach Convention Center\, 1000 19th St\, Virginia Beach\, VA\, 23451\, United States
CATEGORIES:Virginia Beach Convention Center Events,Virginia Beach Events
ATTACH;FMTTYPE=image/jpeg:https://www.vboceanfrontnorth.com/wp-content/uploads/2023/01/Coin-Show.jpg
END:VEVENT
BEGIN:VEVENT
DTSTART;VALUE=DATE:20250208
DTEND;VALUE=DATE:20250210
DTSTAMP:20260421T181728
CREATED:20190102T222229Z
LAST-MODIFIED:20241217T182751Z
UID:681-1738972800-1739145599@www.vboceanfrontnorth.com
SUMMARY:SGK Gun Show
DESCRIPTION:Southeastern Guns and Knives is an organized and legal gun show event held at the Virginia Beach Convention Center that promotes understanding of the shooting sports\, appreciation of American history\, and an opportunity to view historic and contemporary weapons. Displays range from rare and collectible civil war weaponry to the most recent hunting and shooting products. General merchandise also found at the show include army surplus\, shooting supplies\, historical collectibles\, and other forms of militaria. Collectors\, hobbyists\, sportsmen\, hunters or those interested in home defense\, please join us at the show this February.
URL:https://www.vboceanfrontnorth.com/event/sgk-gun-show/
LOCATION:Virginia Beach Convention Center\, 1000 19th St\, Virginia Beach\, VA\, 23451\, United States
CATEGORIES:Virginia Beach Convention Center Events,Virginia Beach Events
ATTACH;FMTTYPE=image/jpeg:https://www.vboceanfrontnorth.com/wp-content/uploads/2019/01/SGK-Gun-Show.jpg
END:VEVENT
BEGIN:VEVENT
DTSTART;VALUE=DATE:20250214
DTEND;VALUE=DATE:20250217
DTSTAMP:20260421T181728
CREATED:20190115T171127Z
LAST-MODIFIED:20241217T183310Z
UID:1108-1739491200-1739750399@www.vboceanfrontnorth.com
SUMMARY:Excalibur Cup
DESCRIPTION:Come out for the Excalibur Cup – a gymnastics invitational open to all levels! The Virginia Beach Convention Center is excited to host 3\,800 competitors\, representing over 25 different states and 10 different countries. With all levels competing in the same location\, it is sure to be a fun-filled\, exciting time!
URL:https://www.vboceanfrontnorth.com/event/excalibur-cup/
LOCATION:Virginia Beach Convention Center\, 1000 19th St\, Virginia Beach\, VA\, 23451\, United States
CATEGORIES:Virginia Beach Convention Center Events,Virginia Beach Events
ATTACH;FMTTYPE=image/jpeg:https://www.vboceanfrontnorth.com/wp-content/uploads/2019/01/Excalibur-Cup.jpg
END:VEVENT
BEGIN:VEVENT
DTSTART;VALUE=DATE:20250221
DTEND;VALUE=DATE:20250223
DTSTAMP:20260421T181728
CREATED:20230109T192630Z
LAST-MODIFIED:20241217T183451Z
UID:4664-1740096000-1740268799@www.vboceanfrontnorth.com
SUMMARY:VHSL Wrestling State Championships
DESCRIPTION:Bracketed Virginia state championship wrestling tournament for Class 4 through 6 at the Virginia Beach Sports Center. Medals to wrestlers finishing in the top 6 of each weight class.
URL:https://www.vboceanfrontnorth.com/event/vhsl-wrestling-state-championships/
LOCATION:Virginia Beach Sports Center\, 1045 19th Street\, Virginia Beach\, Virginia\, 23451
CATEGORIES:Virginia Beach Events,Virginia Beach Sports Center Events
ATTACH;FMTTYPE=image/jpeg:https://www.vboceanfrontnorth.com/wp-content/uploads/2023/01/VHSL-Wrestling-State-Championships.jpg
END:VEVENT
END:VCALENDAR