BEGIN:VCALENDAR
VERSION:2.0
PRODID:-//Holiday Inn and Suites Virginia Beach - North Beach - ECPv6.15.20//NONSGML v1.0//EN
CALSCALE:GREGORIAN
METHOD:PUBLISH
X-ORIGINAL-URL:https://www.vboceanfrontnorth.com
X-WR-CALDESC:Events for Holiday Inn and Suites Virginia Beach - North Beach
REFRESH-INTERVAL;VALUE=DURATION:PT1H
X-Robots-Tag:noindex
X-PUBLISHED-TTL:PT1H
BEGIN:VTIMEZONE
TZID:America/New_York
BEGIN:DAYLIGHT
TZOFFSETFROM:-0500
TZOFFSETTO:-0400
TZNAME:EDT
DTSTART:20240310T070000
END:DAYLIGHT
BEGIN:STANDARD
TZOFFSETFROM:-0400
TZOFFSETTO:-0500
TZNAME:EST
DTSTART:20241103T060000
END:STANDARD
BEGIN:DAYLIGHT
TZOFFSETFROM:-0500
TZOFFSETTO:-0400
TZNAME:EDT
DTSTART:20250309T070000
END:DAYLIGHT
BEGIN:STANDARD
TZOFFSETFROM:-0400
TZOFFSETTO:-0500
TZNAME:EST
DTSTART:20251102T060000
END:STANDARD
BEGIN:DAYLIGHT
TZOFFSETFROM:-0500
TZOFFSETTO:-0400
TZNAME:EDT
DTSTART:20260308T070000
END:DAYLIGHT
BEGIN:STANDARD
TZOFFSETFROM:-0400
TZOFFSETTO:-0500
TZNAME:EST
DTSTART:20261101T060000
END:STANDARD
END:VTIMEZONE
BEGIN:VEVENT
DTSTART;VALUE=DATE:20250214
DTEND;VALUE=DATE:20250217
DTSTAMP:20260421T083924
CREATED:20190115T171127Z
LAST-MODIFIED:20241217T183310Z
UID:1108-1739491200-1739750399@www.vboceanfrontnorth.com
SUMMARY:Excalibur Cup
DESCRIPTION:Come out for the Excalibur Cup – a gymnastics invitational open to all levels! The Virginia Beach Convention Center is excited to host 3\,800 competitors\, representing over 25 different states and 10 different countries. With all levels competing in the same location\, it is sure to be a fun-filled\, exciting time!
URL:https://www.vboceanfrontnorth.com/event/excalibur-cup/
LOCATION:Virginia Beach Convention Center\, 1000 19th St\, Virginia Beach\, VA\, 23451\, United States
CATEGORIES:Virginia Beach Convention Center Events,Virginia Beach Events
ATTACH;FMTTYPE=image/jpeg:https://www.vboceanfrontnorth.com/wp-content/uploads/2019/01/Excalibur-Cup.jpg
END:VEVENT
END:VCALENDAR