BEGIN:VCALENDAR
VERSION:2.0
PRODID:-//Holiday Inn and Suites Virginia Beach - North Beach - ECPv6.15.20//NONSGML v1.0//EN
CALSCALE:GREGORIAN
METHOD:PUBLISH
X-WR-CALNAME:Holiday Inn and Suites Virginia Beach - North Beach
X-ORIGINAL-URL:https://www.vboceanfrontnorth.com
X-WR-CALDESC:Events for Holiday Inn and Suites Virginia Beach - North Beach
REFRESH-INTERVAL;VALUE=DURATION:PT1H
X-Robots-Tag:noindex
X-PUBLISHED-TTL:PT1H
BEGIN:VTIMEZONE
TZID:America/New_York
BEGIN:DAYLIGHT
TZOFFSETFROM:-0500
TZOFFSETTO:-0400
TZNAME:EDT
DTSTART:20240310T070000
END:DAYLIGHT
BEGIN:STANDARD
TZOFFSETFROM:-0400
TZOFFSETTO:-0500
TZNAME:EST
DTSTART:20241103T060000
END:STANDARD
BEGIN:DAYLIGHT
TZOFFSETFROM:-0500
TZOFFSETTO:-0400
TZNAME:EDT
DTSTART:20250309T070000
END:DAYLIGHT
BEGIN:STANDARD
TZOFFSETFROM:-0400
TZOFFSETTO:-0500
TZNAME:EST
DTSTART:20251102T060000
END:STANDARD
BEGIN:DAYLIGHT
TZOFFSETFROM:-0500
TZOFFSETTO:-0400
TZNAME:EDT
DTSTART:20260308T070000
END:DAYLIGHT
BEGIN:STANDARD
TZOFFSETFROM:-0400
TZOFFSETTO:-0500
TZNAME:EST
DTSTART:20261101T060000
END:STANDARD
END:VTIMEZONE
BEGIN:VEVENT
DTSTART;VALUE=DATE:20250221
DTEND;VALUE=DATE:20250223
DTSTAMP:20260421T100949
CREATED:20230109T192630Z
LAST-MODIFIED:20241217T183451Z
UID:4664-1740096000-1740268799@www.vboceanfrontnorth.com
SUMMARY:VHSL Wrestling State Championships
DESCRIPTION:Bracketed Virginia state championship wrestling tournament for Class 4 through 6 at the Virginia Beach Sports Center. Medals to wrestlers finishing in the top 6 of each weight class.
URL:https://www.vboceanfrontnorth.com/event/vhsl-wrestling-state-championships/
LOCATION:Virginia Beach Sports Center\, 1045 19th Street\, Virginia Beach\, Virginia\, 23451
CATEGORIES:Virginia Beach Events,Virginia Beach Sports Center Events
ATTACH;FMTTYPE=image/jpeg:https://www.vboceanfrontnorth.com/wp-content/uploads/2023/01/VHSL-Wrestling-State-Championships.jpg
END:VEVENT
END:VCALENDAR