BEGIN:VCALENDAR
VERSION:2.0
PRODID:-//Holiday Inn and Suites Virginia Beach - North Beach - ECPv6.15.20//NONSGML v1.0//EN
CALSCALE:GREGORIAN
METHOD:PUBLISH
X-WR-CALNAME:Holiday Inn and Suites Virginia Beach - North Beach
X-ORIGINAL-URL:https://www.vboceanfrontnorth.com
X-WR-CALDESC:Events for Holiday Inn and Suites Virginia Beach - North Beach
REFRESH-INTERVAL;VALUE=DURATION:PT1H
X-Robots-Tag:noindex
X-PUBLISHED-TTL:PT1H
BEGIN:VTIMEZONE
TZID:America/New_York
BEGIN:DAYLIGHT
TZOFFSETFROM:-0500
TZOFFSETTO:-0400
TZNAME:EDT
DTSTART:20240310T070000
END:DAYLIGHT
BEGIN:STANDARD
TZOFFSETFROM:-0400
TZOFFSETTO:-0500
TZNAME:EST
DTSTART:20241103T060000
END:STANDARD
BEGIN:DAYLIGHT
TZOFFSETFROM:-0500
TZOFFSETTO:-0400
TZNAME:EDT
DTSTART:20250309T070000
END:DAYLIGHT
BEGIN:STANDARD
TZOFFSETFROM:-0400
TZOFFSETTO:-0500
TZNAME:EST
DTSTART:20251102T060000
END:STANDARD
BEGIN:DAYLIGHT
TZOFFSETFROM:-0500
TZOFFSETTO:-0400
TZNAME:EDT
DTSTART:20260308T070000
END:DAYLIGHT
BEGIN:STANDARD
TZOFFSETFROM:-0400
TZOFFSETTO:-0500
TZNAME:EST
DTSTART:20261101T060000
END:STANDARD
END:VTIMEZONE
BEGIN:VEVENT
DTSTART;TZID=America/New_York:20251231T190000
DTEND;TZID=America/New_York:20251231T190000
DTSTAMP:20260421T180927
CREATED:20240117T181746Z
LAST-MODIFIED:20250618T210145Z
UID:5217-1767207600-1767207600@www.vboceanfrontnorth.com
SUMMARY:Last Night on the Town
DESCRIPTION:Ring in the new year at Virginia Beach’s premier New Year’s Eve celebration! Created by the Central Business District Association (CBDA)\, Last Night on the Town is an annual event at Virginia Beach Town Center and is a FREE celebration suitable for the entire family. General admission is FREE or you can close out the year in style with a paid VIP experience provided by the CBDA.
URL:https://www.vboceanfrontnorth.com/event/last-night-on-the-town/
LOCATION:Town Center of Virginia Beach\, 222 Central Park Ave\, Virginia Beach\, VA\, 23462
CATEGORIES:Virginia Beach Events
ATTACH;FMTTYPE=image/jpeg:https://www.vboceanfrontnorth.com/wp-content/uploads/2024/01/Last-Night-on-the-Town-2.jpg
END:VEVENT
END:VCALENDAR